BEGIN:VCALENDAR
VERSION:2.0
PRODID:-//sjcschargers.com//NONSGML kigkonsult.se iCalcreator 2.30.10//
CALSCALE:GREGORIAN
METHOD:PUBLISH
UID:42aaae89-f2c1-4f43-ade6-5f3a9931759c
X-WR-CALDESC:
X-WR-RELCALID:705adbe1b7f06926f8a5d24b42aa6a43
X-WR-TIMEZONE:America/New_York
BEGIN:VTIMEZONE
TZID:America/New_York
BEGIN:STANDARD
TZNAME:EST
DTSTART:20241103T020000
TZOFFSETFROM:-0400
TZOFFSETTO:-0500
RDATE:20251102T020000
END:STANDARD
BEGIN:DAYLIGHT
TZNAME:EDT
DTSTART:20240310T020000
TZOFFSETFROM:-0500
TZOFFSETTO:-0400
RDATE:20250309T020000
RDATE:20260308T020000
END:DAYLIGHT
END:VTIMEZONE
BEGIN:VEVENT
UID:684e0230-ddad-4f47-aaa2-e715648312e2
DTSTAMP:20260426T034843Z
DESCRIPTION:
DTSTART;TZID=America/New_York:20250108T083000
DTEND;TZID=America/New_York:20250108T093000
LOCATION:1200 SE 10th Street\, Stuart\, FL 34996 US
SUMMARY:All School Mass led by Teachers
END:VEVENT
END:VCALENDAR
