BEGIN:VCALENDAR
VERSION:2.0
PRODID:-//sjcschargers.com//NONSGML kigkonsult.se iCalcreator 2.30.10//
CALSCALE:GREGORIAN
METHOD:PUBLISH
UID:197d9730-0693-4bd3-a7d5-3557cf624ceb
X-WR-CALDESC:
X-WR-RELCALID:57ebfa5747ad48c57e64c391ff1cb079
X-WR-TIMEZONE:America/New_York
BEGIN:VTIMEZONE
TZID:America/New_York
BEGIN:STANDARD
TZNAME:EST
DTSTART:20241103T020000
TZOFFSETFROM:-0400
TZOFFSETTO:-0500
RDATE:20251102T020000
END:STANDARD
BEGIN:DAYLIGHT
TZNAME:EDT
DTSTART:20240310T020000
TZOFFSETFROM:-0500
TZOFFSETTO:-0400
RDATE:20250309T020000
RDATE:20260308T020000
END:DAYLIGHT
END:VTIMEZONE
BEGIN:VEVENT
UID:1b80df22-1913-4f17-86aa-548109412085
DTSTAMP:20260426T034701Z
DESCRIPTION:
DTSTART;TZID=America/New_York:20250112T090000
DTEND;TZID=America/New_York:20250112T100000
LOCATION:1200 SE 10th Street\, Stuart\, FL 34996 US
SUMMARY:SJCS Sunday Mass
END:VEVENT
END:VCALENDAR
