BEGIN:VCALENDAR
VERSION:2.0
PRODID:-//sjcschargers.com//NONSGML kigkonsult.se iCalcreator 2.30.10//
CALSCALE:GREGORIAN
METHOD:PUBLISH
UID:9edf2ddf-e20e-431f-8b5b-8c1101ceb98e
X-WR-CALDESC:
X-WR-RELCALID:c414659b1e208c2de1a873a72d3862af
X-WR-TIMEZONE:America/New_York
BEGIN:VTIMEZONE
TZID:America/New_York
BEGIN:STANDARD
TZNAME:EST
DTSTART:20241103T020000
TZOFFSETFROM:-0400
TZOFFSETTO:-0500
RDATE:20251102T020000
END:STANDARD
BEGIN:DAYLIGHT
TZNAME:EDT
DTSTART:20240310T020000
TZOFFSETFROM:-0500
TZOFFSETTO:-0400
RDATE:20250309T020000
RDATE:20260308T020000
END:DAYLIGHT
END:VTIMEZONE
BEGIN:VEVENT
UID:a8559134-5aa4-4d63-98c5-c09f339710a1
DTSTAMP:20260426T034906Z
DESCRIPTION:
DTSTART;TZID=America/New_York:20250120T060000
DTEND;TZID=America/New_York:20250120T060001
LOCATION:1200 SE 10th Street\, Stuart\, FL 34996 US
SUMMARY:Martin Luther King Jr. Day - NO SCHOOL
END:VEVENT
END:VCALENDAR
