BEGIN:VCALENDAR
VERSION:2.0
PRODID:-//sjcschargers.com//NONSGML kigkonsult.se iCalcreator 2.30.10//
CALSCALE:GREGORIAN
METHOD:PUBLISH
UID:4e8f2775-25c4-41b2-bed2-416841182867
X-WR-CALDESC:
X-WR-RELCALID:4bf10726361752ba72649c681d69327c
X-WR-TIMEZONE:America/New_York
BEGIN:VTIMEZONE
TZID:America/New_York
BEGIN:STANDARD
TZNAME:EST
DTSTART:20241103T020000
TZOFFSETFROM:-0400
TZOFFSETTO:-0500
RDATE:20251102T020000
END:STANDARD
BEGIN:DAYLIGHT
TZNAME:EDT
DTSTART:20240310T020000
TZOFFSETFROM:-0500
TZOFFSETTO:-0400
RDATE:20250309T020000
RDATE:20260308T020000
END:DAYLIGHT
END:VTIMEZONE
BEGIN:VEVENT
UID:e09456eb-705f-4e92-9033-e6b4b8ef7105
DTSTAMP:20260426T034854Z
DESCRIPTION:
DTSTART;TZID=America/New_York:20250124T060000
DTEND;TZID=America/New_York:20250124T060001
LOCATION:1200 SE 10th Street\, Stuart\, FL 34996 US
SUMMARY:STAR Assessments Sent Home
END:VEVENT
END:VCALENDAR
