BEGIN:VCALENDAR
VERSION:2.0
PRODID:-//sjcschargers.com//NONSGML kigkonsult.se iCalcreator 2.30.10//
CALSCALE:GREGORIAN
METHOD:PUBLISH
UID:04285a71-9d80-4e64-b27c-245f75b111f4
X-WR-CALDESC:
X-WR-RELCALID:446aaab3cda8655780da69e4ccf5c9de
X-WR-TIMEZONE:America/New_York
BEGIN:VTIMEZONE
TZID:America/New_York
BEGIN:STANDARD
TZNAME:EST
DTSTART:20241103T020000
TZOFFSETFROM:-0400
TZOFFSETTO:-0500
RDATE:20251102T020000
END:STANDARD
BEGIN:DAYLIGHT
TZNAME:EDT
DTSTART:20240310T020000
TZOFFSETFROM:-0500
TZOFFSETTO:-0400
RDATE:20250309T020000
RDATE:20260308T020000
END:DAYLIGHT
END:VTIMEZONE
BEGIN:VEVENT
UID:a498ddea-1d28-434a-823d-1c21d5025657
DTSTAMP:20260426T034905Z
DESCRIPTION:
DTSTART;TZID=America/New_York:20250125T173000
DTEND;TZID=America/New_York:20250125T203000
LOCATION:1200 SE 10th Street\, Stuart\, FL 34996 US
SUMMARY:Italian Night @ the Gym
END:VEVENT
END:VCALENDAR
