BEGIN:VCALENDAR
VERSION:2.0
PRODID:-//sjcschargers.com//NONSGML kigkonsult.se iCalcreator 2.30.10//
CALSCALE:GREGORIAN
METHOD:PUBLISH
UID:cb574898-58c1-4f29-8770-2c46a1c24f1c
X-WR-CALDESC:
X-WR-RELCALID:a30a1067ec99d1fe2ac65ba25a069a45
X-WR-TIMEZONE:America/New_York
BEGIN:VTIMEZONE
TZID:America/New_York
BEGIN:STANDARD
TZNAME:EST
DTSTART:20241103T020000
TZOFFSETFROM:-0400
TZOFFSETTO:-0500
RDATE:20251102T020000
END:STANDARD
BEGIN:DAYLIGHT
TZNAME:EDT
DTSTART:20240310T020000
TZOFFSETFROM:-0500
TZOFFSETTO:-0400
RDATE:20250309T020000
RDATE:20260308T020000
END:DAYLIGHT
END:VTIMEZONE
BEGIN:VEVENT
UID:ecfcf7c7-f837-42f3-b77f-07cefd8ced0f
DTSTAMP:20260426T035034Z
DESCRIPTION:
DTSTART;TZID=America/New_York:20250126T120000
DTEND;TZID=America/New_York:20250126T160000
LOCATION:1200 SE 10th Street\, Stuart\, FL 34996 US
SUMMARY:Willy Wonka Rehearsal in Gym
END:VEVENT
END:VCALENDAR
