BEGIN:VCALENDAR
VERSION:2.0
PRODID:-//sjcschargers.com//NONSGML kigkonsult.se iCalcreator 2.30.10//
CALSCALE:GREGORIAN
METHOD:PUBLISH
UID:912dded0-e799-4d44-a090-021dc9a31199
X-WR-CALDESC:
X-WR-RELCALID:38ff65d8dcbd9d8f354f1ce067e8d93e
X-WR-TIMEZONE:America/New_York
BEGIN:VTIMEZONE
TZID:America/New_York
BEGIN:STANDARD
TZNAME:EST
DTSTART:20241103T020000
TZOFFSETFROM:-0400
TZOFFSETTO:-0500
RDATE:20251102T020000
RDATE:20261101T020000
END:STANDARD
BEGIN:DAYLIGHT
TZNAME:EDT
DTSTART:20250309T020000
TZOFFSETFROM:-0500
TZOFFSETTO:-0400
RDATE:20260308T020000
RDATE:20270314T020000
END:DAYLIGHT
END:VTIMEZONE
BEGIN:VEVENT
UID:7acdc863-f60a-48f3-940f-be7d6d0e1b99
DTSTAMP:20260422T102319Z
DESCRIPTION:
DTSTART;TZID=America/New_York:20251003T060000
DTEND;TZID=America/New_York:20251003T060001
LOCATION:1200 E. 10th Street\, Stuart\, FL 34996 US
SUMMARY:Half day with Noon Dismissal
END:VEVENT
END:VCALENDAR
