BEGIN:VCALENDAR
VERSION:2.0
PRODID:-//sjcschargers.com//NONSGML kigkonsult.se iCalcreator 2.30.10//
CALSCALE:GREGORIAN
METHOD:PUBLISH
UID:e0a53d09-56db-4ebc-9cae-43a3e0fa475a
X-WR-CALDESC:Family Center
X-WR-RELCALID:9333d9fc1a4968b1869e5feea2e89581
X-WR-TIMEZONE:America/New_York
BEGIN:VTIMEZONE
TZID:America/New_York
BEGIN:STANDARD
TZNAME:EST
DTSTART:20251102T020000
TZOFFSETFROM:-0400
TZOFFSETTO:-0500
RDATE:20261101T020000
END:STANDARD
BEGIN:DAYLIGHT
TZNAME:EDT
DTSTART:20260308T020000
TZOFFSETFROM:-0500
TZOFFSETTO:-0400
RDATE:20270314T020000
END:DAYLIGHT
END:VTIMEZONE
BEGIN:VEVENT
UID:a2f35ca8-1632-46f1-836b-d890e62f331f
DTSTAMP:20260421T084019Z
DESCRIPTION:Family Center
DTSTART;TZID=America/New_York:20260416T123000
DTEND;TZID=America/New_York:20260416T133000
LOCATION:
SUMMARY:Donor Appreciation Lunch
END:VEVENT
END:VCALENDAR
