BEGIN:VCALENDAR
VERSION:2.0
PRODID:-//sjcschargers.com//NONSGML kigkonsult.se iCalcreator 2.30.10//
CALSCALE:GREGORIAN
METHOD:PUBLISH
UID:14348b7b-f512-476f-99fe-1992d3ed1c7e
X-WR-CALDESC:SJCS Gym
X-WR-RELCALID:564e7cfc15e2b9fb599ac223115c1fe7
X-WR-TIMEZONE:America/New_York
BEGIN:VTIMEZONE
TZID:America/New_York
BEGIN:STANDARD
TZNAME:EST
DTSTART:20251102T020000
TZOFFSETFROM:-0400
TZOFFSETTO:-0500
RDATE:20261101T020000
END:STANDARD
BEGIN:DAYLIGHT
TZNAME:EDT
DTSTART:20260308T020000
TZOFFSETFROM:-0500
TZOFFSETTO:-0400
RDATE:20270314T020000
END:DAYLIGHT
END:VTIMEZONE
BEGIN:VEVENT
UID:76d2b2b5-e3a5-4665-9986-bbffc5a011d0
DTSTAMP:20260425T102812Z
DESCRIPTION:SJCS Gym
DTSTART;TZID=America/New_York:20260506T180000
DTEND;TZID=America/New_York:20260506T190000
LOCATION:
SUMMARY:Spring Show - Classes KB-4B
END:VEVENT
END:VCALENDAR
