BEGIN:VCALENDAR
VERSION:2.0
PRODID:-//sjcschargers.com//NONSGML kigkonsult.se iCalcreator 2.30.10//
CALSCALE:GREGORIAN
METHOD:PUBLISH
UID:85e3f8ed-c465-4e13-9601-6f6192545d7a
X-WR-CALDESC:
X-WR-RELCALID:b89389c745b29fbe825c3d220f693ea3
X-WR-TIMEZONE:America/New_York
BEGIN:VTIMEZONE
TZID:America/New_York
BEGIN:STANDARD
TZNAME:EST
DTSTART:20211107T020000
TZOFFSETFROM:-0400
TZOFFSETTO:-0500
RDATE:20221106T020000
RDATE:20231105T020000
END:STANDARD
BEGIN:DAYLIGHT
TZNAME:EDT
DTSTART:20220313T020000
TZOFFSETFROM:-0500
TZOFFSETTO:-0400
RDATE:20230312T020000
END:DAYLIGHT
END:VTIMEZONE
BEGIN:VEVENT
UID:e387a834-f04d-4b53-943b-bdb9771d1449
DTSTAMP:20260424T213626Z
DESCRIPTION:
DTSTART;TZID=America/New_York:20220906T000000
DTEND;TZID=America/New_York:20220919T235900
LOCATION:
SUMMARY:Charleston Wrap Fundraiser
END:VEVENT
END:VCALENDAR
