BEGIN:VCALENDAR
VERSION:2.0
PRODID:-//sjcschargers.com//NONSGML kigkonsult.se iCalcreator 2.30.10//
CALSCALE:GREGORIAN
METHOD:PUBLISH
UID:1b0472a3-b461-4cb1-8dd8-be30424baee9
X-WR-CALDESC:
X-WR-RELCALID:3e5ad4cc0a79e7f95f7f9436879a5336
X-WR-TIMEZONE:America/New_York
BEGIN:VTIMEZONE
TZID:America/New_York
BEGIN:STANDARD
TZNAME:EST
DTSTART:20211107T020000
TZOFFSETFROM:-0400
TZOFFSETTO:-0500
RDATE:20221106T020000
RDATE:20231105T020000
END:STANDARD
BEGIN:DAYLIGHT
TZNAME:EDT
DTSTART:20220313T020000
TZOFFSETFROM:-0500
TZOFFSETTO:-0400
RDATE:20230312T020000
RDATE:20240310T020000
END:DAYLIGHT
END:VTIMEZONE
BEGIN:VEVENT
UID:26d0b3e0-6cce-4a1f-b639-0e281f409ad9
DTSTAMP:20260424T213637Z
DESCRIPTION:
DTSTART;TZID=America/New_York:20220914T000000
DTEND;TZID=America/New_York:20220914T235900
LOCATION:
SUMMARY:School Mass\, 6B/Picture Day--Mass Uniforms
END:VEVENT
END:VCALENDAR
