BEGIN:VCALENDAR
VERSION:2.0
PRODID:-//sjcschargers.com//NONSGML kigkonsult.se iCalcreator 2.30.10//
CALSCALE:GREGORIAN
METHOD:PUBLISH
UID:5ec2eee2-65f5-4963-9eaf-097c9a135eb8
X-WR-CALDESC:
X-WR-RELCALID:93b421975fe3d656bd3ba23923c09b95
X-WR-TIMEZONE:America/New_York
BEGIN:VTIMEZONE
TZID:America/New_York
BEGIN:STANDARD
TZNAME:EST
DTSTART:20211107T020000
TZOFFSETFROM:-0400
TZOFFSETTO:-0500
RDATE:20221106T020000
RDATE:20231105T020000
END:STANDARD
BEGIN:DAYLIGHT
TZNAME:EDT
DTSTART:20220313T020000
TZOFFSETFROM:-0500
TZOFFSETTO:-0400
RDATE:20230312T020000
RDATE:20240310T020000
END:DAYLIGHT
END:VTIMEZONE
BEGIN:VEVENT
UID:32b9f41f-bc3d-44a8-a1ba-98c77d36d945
DTSTAMP:20260424T214840Z
DESCRIPTION:
DTSTART;TZID=America/New_York:20220921T000000
DTEND;TZID=America/New_York:20220922T235900
LOCATION:
SUMMARY:Band pictures
END:VEVENT
END:VCALENDAR
