BEGIN:VCALENDAR
VERSION:2.0
PRODID:-//sjcschargers.com//NONSGML kigkonsult.se iCalcreator 2.30.10//
CALSCALE:GREGORIAN
METHOD:PUBLISH
UID:105086f6-42e0-4e2e-b372-63690193ecf8
X-WR-CALDESC:
X-WR-RELCALID:472642cbe35fe9da165ff29549539dd8
X-WR-TIMEZONE:America/New_York
BEGIN:VTIMEZONE
TZID:America/New_York
BEGIN:STANDARD
TZNAME:EST
DTSTART:20211107T020000
TZOFFSETFROM:-0400
TZOFFSETTO:-0500
RDATE:20221106T020000
RDATE:20231105T020000
END:STANDARD
BEGIN:DAYLIGHT
TZNAME:EDT
DTSTART:20220313T020000
TZOFFSETFROM:-0500
TZOFFSETTO:-0400
RDATE:20230312T020000
RDATE:20240310T020000
END:DAYLIGHT
END:VTIMEZONE
BEGIN:VEVENT
UID:a259e44a-9824-46cc-8f45-e56d33ee0ca6
DTSTAMP:20260424T213938Z
DESCRIPTION:
DTSTART;TZID=America/New_York:20220923T183000
DTEND;TZID=America/New_York:20220923T203000
LOCATION:
SUMMARY:Pizza\, Popcorn\, Movie Night
END:VEVENT
END:VCALENDAR
