BEGIN:VCALENDAR
VERSION:2.0
PRODID:-//sjcschargers.com//NONSGML kigkonsult.se iCalcreator 2.30.10//
CALSCALE:GREGORIAN
METHOD:PUBLISH
UID:907aa8ef-a4a3-4e0d-9b34-b9c347ea349e
X-WR-CALDESC:
X-WR-RELCALID:e7fe93db31dc37cdba2f1df6759b3c27
X-WR-TIMEZONE:America/New_York
BEGIN:VTIMEZONE
TZID:America/New_York
BEGIN:STANDARD
TZNAME:EST
DTSTART:20211107T020000
TZOFFSETFROM:-0400
TZOFFSETTO:-0500
RDATE:20221106T020000
RDATE:20231105T020000
END:STANDARD
BEGIN:DAYLIGHT
TZNAME:EDT
DTSTART:20220313T020000
TZOFFSETFROM:-0500
TZOFFSETTO:-0400
RDATE:20230312T020000
RDATE:20240310T020000
END:DAYLIGHT
END:VTIMEZONE
BEGIN:VEVENT
UID:aff2f9e2-2ccb-4982-b00a-e86cd0e43237
DTSTAMP:20260424T215013Z
DESCRIPTION:
DTSTART;TZID=America/New_York:20220927T034500
DTEND;TZID=America/New_York:20220927T044500
LOCATION:
SUMMARY:Boys Soccer @ Home
END:VEVENT
END:VCALENDAR
