BEGIN:VCALENDAR
VERSION:2.0
PRODID:-//sjcschargers.com//NONSGML kigkonsult.se iCalcreator 2.30.10//
CALSCALE:GREGORIAN
METHOD:PUBLISH
UID:a1e1d3b4-75e1-4f6c-823f-401288b9e6ce
X-WR-CALDESC:
X-WR-RELCALID:b3455ec2fa2a2c8cf1bd0889dc63b64e
X-WR-TIMEZONE:America/New_York
BEGIN:VTIMEZONE
TZID:America/New_York
BEGIN:STANDARD
TZNAME:EST
DTSTART:20211107T020000
TZOFFSETFROM:-0400
TZOFFSETTO:-0500
RDATE:20221106T020000
RDATE:20231105T020000
END:STANDARD
BEGIN:DAYLIGHT
TZNAME:EDT
DTSTART:20220313T020000
TZOFFSETFROM:-0500
TZOFFSETTO:-0400
RDATE:20230312T020000
RDATE:20240310T020000
END:DAYLIGHT
END:VTIMEZONE
BEGIN:VEVENT
UID:a493518c-6ef7-4f4e-b89d-81423f1f075d
DTSTAMP:20260424T215813Z
DESCRIPTION:
DTSTART;TZID=America/New_York:20220927T153000
DTEND;TZID=America/New_York:20220927T163000
LOCATION:
SUMMARY:Volleyball @ Home JV 3:30 V 4:30
END:VEVENT
END:VCALENDAR
