BEGIN:VCALENDAR
VERSION:2.0
PRODID:-//sjcschargers.com//NONSGML kigkonsult.se iCalcreator 2.30.10//
CALSCALE:GREGORIAN
METHOD:PUBLISH
UID:364e3632-00e7-499a-a150-a280b6f7c593
X-WR-CALDESC:
X-WR-RELCALID:2b355b8b352c8e5d0e3693aa4bb7c95b
X-WR-TIMEZONE:America/New_York
BEGIN:VTIMEZONE
TZID:America/New_York
BEGIN:STANDARD
TZNAME:EST
DTSTART:20211107T020000
TZOFFSETFROM:-0400
TZOFFSETTO:-0500
RDATE:20221106T020000
RDATE:20231105T020000
END:STANDARD
BEGIN:DAYLIGHT
TZNAME:EDT
DTSTART:20220313T020000
TZOFFSETFROM:-0500
TZOFFSETTO:-0400
RDATE:20230312T020000
RDATE:20240310T020000
END:DAYLIGHT
END:VTIMEZONE
BEGIN:VEVENT
UID:bf8b2c70-940e-4503-a497-627040ed45b2
DTSTAMP:20260424T201312Z
DESCRIPTION:
DTSTART;TZID=America/New_York:20221002T090000
DTEND;TZID=America/New_York:20221002T100000
LOCATION:St. Joseph Church
SUMMARY:3A at Sunday Mass-SJCS
END:VEVENT
END:VCALENDAR
