BEGIN:VCALENDAR
VERSION:2.0
PRODID:-//sjcschargers.com//NONSGML kigkonsult.se iCalcreator 2.30.10//
CALSCALE:GREGORIAN
METHOD:PUBLISH
UID:a4e0fad0-b1bf-4ff2-bb0d-8f3f5dc9f0a6
X-WR-CALDESC:
X-WR-RELCALID:849403340d5e6628ecf4eaa9c0b3ef65
X-WR-TIMEZONE:America/New_York
BEGIN:VTIMEZONE
TZID:America/New_York
BEGIN:STANDARD
TZNAME:EST
DTSTART:20211107T020000
TZOFFSETFROM:-0400
TZOFFSETTO:-0500
RDATE:20221106T020000
RDATE:20231105T020000
END:STANDARD
BEGIN:DAYLIGHT
TZNAME:EDT
DTSTART:20220313T020000
TZOFFSETFROM:-0500
TZOFFSETTO:-0400
RDATE:20230312T020000
RDATE:20240310T020000
END:DAYLIGHT
END:VTIMEZONE
BEGIN:VEVENT
UID:5a48f2fe-35c4-413f-b4cb-eac7b75211be
DTSTAMP:20260424T201332Z
DESCRIPTION:
DTSTART;TZID=America/New_York:20221004T160000
DTEND;TZID=America/New_York:20221004T170000
LOCATION:
SUMMARY:Boys Soccer Redeemer @ Guy Davis Park
END:VEVENT
END:VCALENDAR
