BEGIN:VCALENDAR
VERSION:2.0
PRODID:-//sjcschargers.com//NONSGML kigkonsult.se iCalcreator 2.30.10//
CALSCALE:GREGORIAN
METHOD:PUBLISH
UID:be0265cc-06b8-441d-b25c-276c1e301653
X-WR-CALDESC:
X-WR-RELCALID:ef6b793d99cb498f9f1faa4477a269a0
X-WR-TIMEZONE:America/New_York
BEGIN:VTIMEZONE
TZID:America/New_York
BEGIN:STANDARD
TZNAME:EST
DTSTART:20211107T020000
TZOFFSETFROM:-0400
TZOFFSETTO:-0500
RDATE:20221106T020000
RDATE:20231105T020000
END:STANDARD
BEGIN:DAYLIGHT
TZNAME:EDT
DTSTART:20220313T020000
TZOFFSETFROM:-0500
TZOFFSETTO:-0400
RDATE:20230312T020000
RDATE:20240310T020000
END:DAYLIGHT
END:VTIMEZONE
BEGIN:VEVENT
UID:68ab616c-07ed-4d68-9a55-c1135bbc1d47
DTSTAMP:20260424T201900Z
DESCRIPTION:
DTSTART;TZID=America/New_York:20221004T074500
DTEND;TZID=America/New_York:20221004T080000
LOCATION:
SUMMARY:St. Francis Blessing of the Animals
END:VEVENT
END:VCALENDAR
