BEGIN:VCALENDAR
VERSION:2.0
PRODID:-//sjcschargers.com//NONSGML kigkonsult.se iCalcreator 2.30.10//
CALSCALE:GREGORIAN
METHOD:PUBLISH
UID:2fd69a9b-21ca-4f56-92be-ef58b68c6abf
X-WR-CALDESC:
X-WR-RELCALID:449846bdd9bf4a1385cf424152bb37ac
X-WR-TIMEZONE:America/New_York
BEGIN:VTIMEZONE
TZID:America/New_York
BEGIN:STANDARD
TZNAME:EST
DTSTART:20211107T020000
TZOFFSETFROM:-0400
TZOFFSETTO:-0500
RDATE:20221106T020000
RDATE:20231105T020000
END:STANDARD
BEGIN:DAYLIGHT
TZNAME:EDT
DTSTART:20220313T020000
TZOFFSETFROM:-0500
TZOFFSETTO:-0400
RDATE:20230312T020000
RDATE:20240310T020000
END:DAYLIGHT
END:VTIMEZONE
BEGIN:VEVENT
UID:bcee11eb-f246-4e89-b58c-6d8909f059d0
DTSTAMP:20260424T202510Z
DESCRIPTION:
DTSTART;TZID=America/New_York:20221004T154500
DTEND;TZID=America/New_York:20221004T164500
LOCATION:
SUMMARY:Volleyball @ Home JV 3:45 V 4:45
END:VEVENT
END:VCALENDAR
