BEGIN:VCALENDAR
VERSION:2.0
PRODID:-//sjcschargers.com//NONSGML kigkonsult.se iCalcreator 2.30.10//
CALSCALE:GREGORIAN
METHOD:PUBLISH
UID:e6bb5c37-a8a0-42e0-875a-a8684086fb81
X-WR-CALDESC:
X-WR-RELCALID:b3c5caaadc352d355a8afbebb279ebbb
X-WR-TIMEZONE:America/New_York
BEGIN:VTIMEZONE
TZID:America/New_York
BEGIN:STANDARD
TZNAME:EST
DTSTART:20211107T020000
TZOFFSETFROM:-0400
TZOFFSETTO:-0500
RDATE:20221106T020000
RDATE:20231105T020000
END:STANDARD
BEGIN:DAYLIGHT
TZNAME:EDT
DTSTART:20220313T020000
TZOFFSETFROM:-0500
TZOFFSETTO:-0400
RDATE:20230312T020000
RDATE:20240310T020000
END:DAYLIGHT
END:VTIMEZONE
BEGIN:VEVENT
UID:e952e2ed-bcaf-4a7c-b9d6-4508ec3381e1
DTSTAMP:20260424T201144Z
DESCRIPTION:
DTSTART;TZID=America/New_York:20221005T083000
DTEND;TZID=America/New_York:20221005T093000
LOCATION:
SUMMARY:School Mass\, 4th Grade
END:VEVENT
END:VCALENDAR
