BEGIN:VCALENDAR
VERSION:2.0
PRODID:-//sjcschargers.com//NONSGML kigkonsult.se iCalcreator 2.30.10//
CALSCALE:GREGORIAN
METHOD:PUBLISH
UID:7cee961d-052d-415c-881d-f7bc4826b8a8
X-WR-CALDESC:
X-WR-RELCALID:40c8acd69af47e9600e177351363bbb5
X-WR-TIMEZONE:America/New_York
BEGIN:VTIMEZONE
TZID:America/New_York
BEGIN:STANDARD
TZNAME:EST
DTSTART:20211107T020000
TZOFFSETFROM:-0400
TZOFFSETTO:-0500
RDATE:20221106T020000
RDATE:20231105T020000
END:STANDARD
BEGIN:DAYLIGHT
TZNAME:EDT
DTSTART:20220313T020000
TZOFFSETFROM:-0500
TZOFFSETTO:-0400
RDATE:20230312T020000
RDATE:20240310T020000
END:DAYLIGHT
END:VTIMEZONE
BEGIN:VEVENT
UID:4c51b55e-1065-4f28-919c-188a3fadd4da
DTSTAMP:20260424T201624Z
DESCRIPTION:
DTSTART;TZID=America/New_York:20221005T160000
DTEND;TZID=America/New_York:20221005T170000
LOCATION:
SUMMARY:Volleyball @ Home JV 4 V 5
END:VEVENT
END:VCALENDAR
