BEGIN:VCALENDAR
VERSION:2.0
PRODID:-//sjcschargers.com//NONSGML kigkonsult.se iCalcreator 2.30.10//
CALSCALE:GREGORIAN
METHOD:PUBLISH
UID:f5170158-f524-4b42-a6ff-107507b2df8e
X-WR-CALDESC:
X-WR-RELCALID:e331de36d37b0c7aef7da2387e800eda
X-WR-TIMEZONE:America/New_York
BEGIN:VTIMEZONE
TZID:America/New_York
BEGIN:STANDARD
TZNAME:EST
DTSTART:20211107T020000
TZOFFSETFROM:-0400
TZOFFSETTO:-0500
RDATE:20221106T020000
RDATE:20231105T020000
END:STANDARD
BEGIN:DAYLIGHT
TZNAME:EDT
DTSTART:20220313T020000
TZOFFSETFROM:-0500
TZOFFSETTO:-0400
RDATE:20230312T020000
RDATE:20240310T020000
END:DAYLIGHT
END:VTIMEZONE
BEGIN:VEVENT
UID:84d4370a-9ada-4786-9997-2a2c2e27fd45
DTSTAMP:20260424T201404Z
DESCRIPTION:
DTSTART;TZID=America/New_York:20221007T000000
DTEND;TZID=America/New_York:20221007T235900
LOCATION:
SUMMARY:End of Quarter 1
END:VEVENT
END:VCALENDAR
