BEGIN:VCALENDAR
VERSION:2.0
PRODID:-//sjcschargers.com//NONSGML kigkonsult.se iCalcreator 2.30.10//
CALSCALE:GREGORIAN
METHOD:PUBLISH
UID:e4fcbfbd-fcbb-43d2-856e-0c804024ce56
X-WR-CALDESC:
X-WR-RELCALID:4b7644f8582eebd879447d8b14cbd0be
X-WR-TIMEZONE:America/New_York
BEGIN:VTIMEZONE
TZID:America/New_York
BEGIN:STANDARD
TZNAME:EST
DTSTART:20211107T020000
TZOFFSETFROM:-0400
TZOFFSETTO:-0500
RDATE:20221106T020000
RDATE:20231105T020000
END:STANDARD
BEGIN:DAYLIGHT
TZNAME:EDT
DTSTART:20220313T020000
TZOFFSETFROM:-0500
TZOFFSETTO:-0400
RDATE:20230312T020000
RDATE:20240310T020000
END:DAYLIGHT
END:VTIMEZONE
BEGIN:VEVENT
UID:5037c8e9-cd28-44bb-b9f4-9f9b0846810b
DTSTAMP:20260424T201312Z
DESCRIPTION:
DTSTART;TZID=America/New_York:20221007T104500
DTEND;TZID=America/New_York:20221007T114500
LOCATION:
SUMMARY:Prayer Service-2nd grade-Benediction
END:VEVENT
END:VCALENDAR
