BEGIN:VCALENDAR
VERSION:2.0
PRODID:-//sjcschargers.com//NONSGML kigkonsult.se iCalcreator 2.30.10//
CALSCALE:GREGORIAN
METHOD:PUBLISH
UID:42c45f39-f96c-4ad3-a836-930eebee73a1
X-WR-CALDESC:
X-WR-RELCALID:2faa966c083cd9a889f962eac22e9eab
X-WR-TIMEZONE:America/New_York
BEGIN:VTIMEZONE
TZID:America/New_York
BEGIN:STANDARD
TZNAME:EST
DTSTART:20211107T020000
TZOFFSETFROM:-0400
TZOFFSETTO:-0500
RDATE:20221106T020000
RDATE:20231105T020000
END:STANDARD
BEGIN:DAYLIGHT
TZNAME:EDT
DTSTART:20220313T020000
TZOFFSETFROM:-0500
TZOFFSETTO:-0400
RDATE:20230312T020000
RDATE:20240310T020000
END:DAYLIGHT
END:VTIMEZONE
BEGIN:VEVENT
UID:dc11c917-b7e5-4f04-84df-02f8d413d745
DTSTAMP:20260424T201803Z
DESCRIPTION:
DTSTART;TZID=America/New_York:20221011T163000
DTEND;TZID=America/New_York:20221011T173000
LOCATION:
SUMMARY:Volleyball @ Calvary Christian V 4:30
END:VEVENT
END:VCALENDAR
