BEGIN:VCALENDAR
VERSION:2.0
PRODID:-//sjcschargers.com//NONSGML kigkonsult.se iCalcreator 2.30.10//
CALSCALE:GREGORIAN
METHOD:PUBLISH
UID:ef785cbf-b650-4f7c-91c4-bb06abf4f9f1
X-WR-CALDESC:
X-WR-RELCALID:bae95616b6af1b89f8c878d9634217ee
X-WR-TIMEZONE:America/New_York
BEGIN:VTIMEZONE
TZID:America/New_York
BEGIN:STANDARD
TZNAME:EST
DTSTART:20211107T020000
TZOFFSETFROM:-0400
TZOFFSETTO:-0500
RDATE:20221106T020000
RDATE:20231105T020000
END:STANDARD
BEGIN:DAYLIGHT
TZNAME:EDT
DTSTART:20220313T020000
TZOFFSETFROM:-0500
TZOFFSETTO:-0400
RDATE:20230312T020000
RDATE:20240310T020000
END:DAYLIGHT
END:VTIMEZONE
BEGIN:VEVENT
UID:1bf456b5-c10f-4d79-a85c-9f3e9389db21
DTSTAMP:20260424T201348Z
DESCRIPTION:
DTSTART;TZID=America/New_York:20221013T154500
DTEND;TZID=America/New_York:20221013T164500
LOCATION:
SUMMARY:Boys Soccer @ Home
END:VEVENT
END:VCALENDAR
