BEGIN:VCALENDAR
VERSION:2.0
PRODID:-//sjcschargers.com//NONSGML kigkonsult.se iCalcreator 2.30.10//
CALSCALE:GREGORIAN
METHOD:PUBLISH
UID:54ca1fb9-f358-428f-b6c7-e0ab0efbb6ec
X-WR-CALDESC:
X-WR-RELCALID:2141155a5892f65394cd08472e92b176
X-WR-TIMEZONE:America/New_York
BEGIN:VTIMEZONE
TZID:America/New_York
BEGIN:STANDARD
TZNAME:EST
DTSTART:20211107T020000
TZOFFSETFROM:-0400
TZOFFSETTO:-0500
RDATE:20221106T020000
RDATE:20231105T020000
END:STANDARD
BEGIN:DAYLIGHT
TZNAME:EDT
DTSTART:20220313T020000
TZOFFSETFROM:-0500
TZOFFSETTO:-0400
RDATE:20230312T020000
RDATE:20240310T020000
END:DAYLIGHT
END:VTIMEZONE
BEGIN:VEVENT
UID:9a72d4e1-7e63-4ecf-9a94-093024de3318
DTSTAMP:20260424T201635Z
DESCRIPTION:
DTSTART;TZID=America/New_York:20221013T154500
DTEND;TZID=America/New_York:20221013T164500
LOCATION:
SUMMARY:Volleyball @ Home JV 3:45 V 4:45
END:VEVENT
END:VCALENDAR
