BEGIN:VCALENDAR
VERSION:2.0
PRODID:-//sjcschargers.com//NONSGML kigkonsult.se iCalcreator 2.30.10//
CALSCALE:GREGORIAN
METHOD:PUBLISH
UID:bf5dc06f-5086-4fdb-9152-e4e08e4fd440
X-WR-CALDESC:
X-WR-RELCALID:a9febc323b33da5339fbca23da3f04d8
X-WR-TIMEZONE:America/New_York
BEGIN:VTIMEZONE
TZID:America/New_York
BEGIN:STANDARD
TZNAME:EST
DTSTART:20211107T020000
TZOFFSETFROM:-0400
TZOFFSETTO:-0500
RDATE:20221106T020000
RDATE:20231105T020000
END:STANDARD
BEGIN:DAYLIGHT
TZNAME:EDT
DTSTART:20220313T020000
TZOFFSETFROM:-0500
TZOFFSETTO:-0400
RDATE:20230312T020000
RDATE:20240310T020000
END:DAYLIGHT
END:VTIMEZONE
BEGIN:VEVENT
UID:5f996e36-865e-492d-a320-bf229b38b421
DTSTAMP:20260424T201154Z
DESCRIPTION:
DTSTART;TZID=America/New_York:20221019T083000
DTEND;TZID=America/New_York:20221019T093000
LOCATION:
SUMMARY:School Mass\, 7A
END:VEVENT
END:VCALENDAR
