BEGIN:VCALENDAR
VERSION:2.0
PRODID:-//sjcschargers.com//NONSGML kigkonsult.se iCalcreator 2.30.10//
CALSCALE:GREGORIAN
METHOD:PUBLISH
UID:20a8520c-4a5b-4b27-b93b-194f53697dc7
X-WR-CALDESC:
X-WR-RELCALID:8b81c93f4ba24c89faa08658d2e60bcb
X-WR-TIMEZONE:America/New_York
BEGIN:VTIMEZONE
TZID:America/New_York
BEGIN:STANDARD
TZNAME:EST
DTSTART:20211107T020000
TZOFFSETFROM:-0400
TZOFFSETTO:-0500
RDATE:20221106T020000
RDATE:20231105T020000
END:STANDARD
BEGIN:DAYLIGHT
TZNAME:EDT
DTSTART:20220313T020000
TZOFFSETFROM:-0500
TZOFFSETTO:-0400
RDATE:20230312T020000
RDATE:20240310T020000
END:DAYLIGHT
END:VTIMEZONE
BEGIN:VEVENT
UID:09a038c7-687c-4d47-87a7-6e360214c040
DTSTAMP:20260424T201231Z
DESCRIPTION:
DTSTART;TZID=America/New_York:20221022T000000
DTEND;TZID=America/New_York:20221022T235900
LOCATION:
SUMMARY:FALL FESTIVAL!!!
END:VEVENT
END:VCALENDAR
