BEGIN:VCALENDAR
VERSION:2.0
PRODID:-//sjcschargers.com//NONSGML kigkonsult.se iCalcreator 2.30.10//
CALSCALE:GREGORIAN
METHOD:PUBLISH
UID:62102a30-df9a-4183-8feb-12bd36f2170f
X-WR-CALDESC:
X-WR-RELCALID:584c2cf117a58e0d49e7a342f9e4a49d
X-WR-TIMEZONE:America/New_York
BEGIN:VTIMEZONE
TZID:America/New_York
BEGIN:STANDARD
TZNAME:EST
DTSTART:20211107T020000
TZOFFSETFROM:-0400
TZOFFSETTO:-0500
RDATE:20221106T020000
RDATE:20231105T020000
END:STANDARD
BEGIN:DAYLIGHT
TZNAME:EDT
DTSTART:20220313T020000
TZOFFSETFROM:-0500
TZOFFSETTO:-0400
RDATE:20230312T020000
RDATE:20240310T020000
END:DAYLIGHT
END:VTIMEZONE
BEGIN:VEVENT
UID:d4522e6b-a2d4-4d27-bc63-824f955716be
DTSTAMP:20260424T201058Z
DESCRIPTION:
DTSTART;TZID=America/New_York:20221026T083000
DTEND;TZID=America/New_York:20221026T093000
LOCATION:
SUMMARY:School Mass\, 6A
END:VEVENT
END:VCALENDAR
