BEGIN:VCALENDAR
VERSION:2.0
PRODID:-//sjcschargers.com//NONSGML kigkonsult.se iCalcreator 2.30.10//
CALSCALE:GREGORIAN
METHOD:PUBLISH
UID:74182d20-1e66-4473-b113-2111084b4f8c
X-WR-CALDESC:
X-WR-RELCALID:f57731d0889c71062d8126fe6508f3ee
X-WR-TIMEZONE:America/New_York
BEGIN:VTIMEZONE
TZID:America/New_York
BEGIN:STANDARD
TZNAME:EST
DTSTART:20211107T020000
TZOFFSETFROM:-0400
TZOFFSETTO:-0500
RDATE:20221106T020000
RDATE:20231105T020000
END:STANDARD
BEGIN:DAYLIGHT
TZNAME:EDT
DTSTART:20220313T020000
TZOFFSETFROM:-0500
TZOFFSETTO:-0400
RDATE:20230312T020000
RDATE:20240310T020000
END:DAYLIGHT
END:VTIMEZONE
BEGIN:VEVENT
UID:b7e0838a-665f-411b-82b0-63a94c1e19d7
DTSTAMP:20260424T201349Z
DESCRIPTION:
DTSTART;TZID=America/New_York:20221028T000000
DTEND;TZID=America/New_York:20221028T235900
LOCATION:
SUMMARY:H&S Trunk or Treat
END:VEVENT
END:VCALENDAR
