BEGIN:VCALENDAR
VERSION:2.0
PRODID:-//sjcschargers.com//NONSGML kigkonsult.se iCalcreator 2.30.10//
CALSCALE:GREGORIAN
METHOD:PUBLISH
UID:aa2183d8-c74c-4e26-8d04-9944c5ecfe2e
X-WR-CALDESC:
X-WR-RELCALID:8203e52a5369ed1942662a40132ef853
X-WR-TIMEZONE:America/New_York
BEGIN:VTIMEZONE
TZID:America/New_York
BEGIN:STANDARD
TZNAME:EST
DTSTART:20211107T020000
TZOFFSETFROM:-0400
TZOFFSETTO:-0500
RDATE:20221106T020000
RDATE:20231105T020000
END:STANDARD
BEGIN:DAYLIGHT
TZNAME:EDT
DTSTART:20220313T020000
TZOFFSETFROM:-0500
TZOFFSETTO:-0400
RDATE:20230312T020000
RDATE:20240310T020000
END:DAYLIGHT
END:VTIMEZONE
BEGIN:VEVENT
UID:25568218-57a0-422c-ba34-5e7b477e9330
DTSTAMP:20260424T201052Z
DESCRIPTION:
DTSTART;TZID=America/New_York:20221029T000000
DTEND;TZID=America/New_York:20221029T235900
LOCATION:
SUMMARY:Marching Band MPA
END:VEVENT
END:VCALENDAR
