BEGIN:VCALENDAR
VERSION:2.0
PRODID:-//sjcschargers.com//NONSGML kigkonsult.se iCalcreator 2.30.10//
CALSCALE:GREGORIAN
METHOD:PUBLISH
UID:aa80aeb7-6205-403e-8867-001badaa26ed
X-WR-CALDESC:
X-WR-RELCALID:4bbdb75d34e716552603061578c2823a
X-WR-TIMEZONE:America/New_York
BEGIN:VTIMEZONE
TZID:America/New_York
BEGIN:STANDARD
TZNAME:EST
DTSTART:20211107T020000
TZOFFSETFROM:-0400
TZOFFSETTO:-0500
RDATE:20221106T020000
RDATE:20231105T020000
END:STANDARD
BEGIN:DAYLIGHT
TZNAME:EDT
DTSTART:20220313T020000
TZOFFSETFROM:-0500
TZOFFSETTO:-0400
RDATE:20230312T020000
RDATE:20240310T020000
END:DAYLIGHT
END:VTIMEZONE
BEGIN:VEVENT
UID:3e22d931-ca4a-4b9e-a1b6-38fb9ccca2bd
DTSTAMP:20260424T201629Z
DESCRIPTION:
DTSTART;TZID=America/New_York:20221031T000000
DTEND;TZID=America/New_York:20221031T235900
LOCATION:
SUMMARY:LL & VPK Trick or Treat Parade
END:VEVENT
END:VCALENDAR
