BEGIN:VCALENDAR
VERSION:2.0
PRODID:-//sjcschargers.com//NONSGML kigkonsult.se iCalcreator 2.30.10//
CALSCALE:GREGORIAN
METHOD:PUBLISH
UID:69f3511d-a53a-4f35-a717-8792c4365bd7
X-WR-CALDESC:
X-WR-RELCALID:a87e027d777a62eaaba967f4ead1da1a
X-WR-TIMEZONE:America/New_York
BEGIN:VTIMEZONE
TZID:America/New_York
BEGIN:STANDARD
TZNAME:EST
DTSTART:20211107T020000
TZOFFSETFROM:-0400
TZOFFSETTO:-0500
RDATE:20221106T020000
RDATE:20231105T020000
END:STANDARD
BEGIN:DAYLIGHT
TZNAME:EDT
DTSTART:20220313T020000
TZOFFSETFROM:-0500
TZOFFSETTO:-0400
RDATE:20230312T020000
RDATE:20240310T020000
END:DAYLIGHT
END:VTIMEZONE
BEGIN:VEVENT
UID:7bed49b9-3f6f-4d7e-9dc8-a8687536b20b
DTSTAMP:20260424T190656Z
DESCRIPTION:
DTSTART;TZID=America/New_York:20221101T000000
DTEND;TZID=America/New_York:20221101T235900
LOCATION:
SUMMARY:Spirit Day-spirt shirt/uniform bottoms
END:VEVENT
END:VCALENDAR
