BEGIN:VCALENDAR
VERSION:2.0
PRODID:-//sjcschargers.com//NONSGML kigkonsult.se iCalcreator 2.30.10//
CALSCALE:GREGORIAN
METHOD:PUBLISH
UID:0ecfbac8-5fe5-4292-a454-a72aad638a28
X-WR-CALDESC:K\, 1\, 3\, 6\, and new students
X-WR-RELCALID:cf351447254bdfb2ac510859ac573e5c
X-WR-TIMEZONE:America/New_York
BEGIN:VTIMEZONE
TZID:America/New_York
BEGIN:STANDARD
TZNAME:EST
DTSTART:20211107T020000
TZOFFSETFROM:-0400
TZOFFSETTO:-0500
RDATE:20221106T020000
RDATE:20231105T020000
END:STANDARD
BEGIN:DAYLIGHT
TZNAME:EDT
DTSTART:20220313T020000
TZOFFSETFROM:-0500
TZOFFSETTO:-0400
RDATE:20230312T020000
RDATE:20240310T020000
END:DAYLIGHT
END:VTIMEZONE
BEGIN:VEVENT
UID:1cbcf650-cc52-4ea0-8b7d-b3985c822f3a
DTSTAMP:20260424T184325Z
DESCRIPTION:K\, 1\, 3\, 6\, and new students
DTSTART;TZID=America/New_York:20221103T000000
DTEND;TZID=America/New_York:20221103T235900
LOCATION:
SUMMARY:Vision Screening
END:VEVENT
END:VCALENDAR
