BEGIN:VCALENDAR
VERSION:2.0
PRODID:-//sjcschargers.com//NONSGML kigkonsult.se iCalcreator 2.30.10//
CALSCALE:GREGORIAN
METHOD:PUBLISH
UID:b40450b0-3c4b-4567-908a-6f6bf9c66edf
X-WR-CALDESC:
X-WR-RELCALID:6281b8f7a2f40b422f40c515b8257142
X-WR-TIMEZONE:America/New_York
BEGIN:VTIMEZONE
TZID:America/New_York
BEGIN:STANDARD
TZNAME:EST
DTSTART:20211107T020000
TZOFFSETFROM:-0400
TZOFFSETTO:-0500
RDATE:20221106T020000
RDATE:20231105T020000
END:STANDARD
BEGIN:DAYLIGHT
TZNAME:EDT
DTSTART:20220313T020000
TZOFFSETFROM:-0500
TZOFFSETTO:-0400
RDATE:20230312T020000
RDATE:20240310T020000
END:DAYLIGHT
END:VTIMEZONE
BEGIN:VEVENT
UID:cecb2e3e-0887-4b17-a929-39745ee3572a
DTSTAMP:20260424T184355Z
DESCRIPTION:
DTSTART;TZID=America/New_York:20221104T000000
DTEND;TZID=America/New_York:20221104T235900
LOCATION:
SUMMARY:Half Day - First Friday
END:VEVENT
END:VCALENDAR
