BEGIN:VCALENDAR
VERSION:2.0
PRODID:-//sjcschargers.com//NONSGML kigkonsult.se iCalcreator 2.30.10//
CALSCALE:GREGORIAN
METHOD:PUBLISH
UID:51916ad4-4a37-4895-a954-203fd8941a69
X-WR-CALDESC:
X-WR-RELCALID:20df349c65b2824e91fb161ae4253ba9
X-WR-TIMEZONE:America/New_York
BEGIN:VTIMEZONE
TZID:America/New_York
BEGIN:STANDARD
TZNAME:EST
DTSTART:20211107T020000
TZOFFSETFROM:-0400
TZOFFSETTO:-0500
RDATE:20221106T020000
RDATE:20231105T020000
END:STANDARD
BEGIN:DAYLIGHT
TZNAME:EDT
DTSTART:20220313T020000
TZOFFSETFROM:-0500
TZOFFSETTO:-0400
RDATE:20230312T020000
RDATE:20240310T020000
END:DAYLIGHT
END:VTIMEZONE
BEGIN:VEVENT
UID:8ab4996b-4065-4557-9dae-ba8997816024
DTSTAMP:20260424T185555Z
DESCRIPTION:
DTSTART;TZID=America/New_York:20221107T000000
DTEND;TZID=America/New_York:20221107T235900
LOCATION:
SUMMARY:7th Grade Retreat
END:VEVENT
END:VCALENDAR
