BEGIN:VCALENDAR
VERSION:2.0
PRODID:-//sjcschargers.com//NONSGML kigkonsult.se iCalcreator 2.30.10//
CALSCALE:GREGORIAN
METHOD:PUBLISH
UID:5f40998b-c9bf-4c5c-9b75-da4b3488863e
X-WR-CALDESC:
X-WR-RELCALID:f0adf9a0f6cec91ef32c271718d981aa
X-WR-TIMEZONE:America/New_York
BEGIN:VTIMEZONE
TZID:America/New_York
BEGIN:STANDARD
TZNAME:EST
DTSTART:20221106T020000
TZOFFSETFROM:-0400
TZOFFSETTO:-0500
RDATE:20231105T020000
END:STANDARD
BEGIN:DAYLIGHT
TZNAME:EDT
DTSTART:20220313T020000
TZOFFSETFROM:-0500
TZOFFSETTO:-0400
RDATE:20230312T020000
RDATE:20240310T020000
END:DAYLIGHT
END:VTIMEZONE
BEGIN:VEVENT
UID:ef9c3250-698a-4b84-acc2-8781af1107cd
DTSTAMP:20260424T190114Z
DESCRIPTION:
DTSTART;TZID=America/New_York:20221115T161500
DTEND;TZID=America/New_York:20221115T171500
LOCATION:
SUMMARY:JV Boys Basketball @ St. Helen(Fenn Center Ft. Pierce)
END:VEVENT
END:VCALENDAR
