BEGIN:VCALENDAR
VERSION:2.0
PRODID:-//sjcschargers.com//NONSGML kigkonsult.se iCalcreator 2.30.10//
CALSCALE:GREGORIAN
METHOD:PUBLISH
UID:8fc9de99-d28d-4a7d-8499-779964822785
X-WR-CALDESC:
X-WR-RELCALID:03358968f4c16fa16f8513d8ef2fcde5
X-WR-TIMEZONE:America/New_York
BEGIN:VTIMEZONE
TZID:America/New_York
BEGIN:STANDARD
TZNAME:EST
DTSTART:20221106T020000
TZOFFSETFROM:-0400
TZOFFSETTO:-0500
RDATE:20231105T020000
END:STANDARD
BEGIN:DAYLIGHT
TZNAME:EDT
DTSTART:20220313T020000
TZOFFSETFROM:-0500
TZOFFSETTO:-0400
RDATE:20230312T020000
RDATE:20240310T020000
END:DAYLIGHT
END:VTIMEZONE
BEGIN:VEVENT
UID:1a1dd071-5c88-4f74-884b-34352750e078
DTSTAMP:20260424T185447Z
DESCRIPTION:
DTSTART;TZID=America/New_York:20221115T000000
DTEND;TZID=America/New_York:20221115T235900
LOCATION:
SUMMARY:Science Fair (Middle School)
END:VEVENT
END:VCALENDAR
