BEGIN:VCALENDAR
VERSION:2.0
PRODID:-//sjcschargers.com//NONSGML kigkonsult.se iCalcreator 2.30.10//
CALSCALE:GREGORIAN
METHOD:PUBLISH
UID:7f97d611-9b6b-462a-98ee-217eb573d50e
X-WR-CALDESC:
X-WR-RELCALID:5685d44b5d0e4dd23c4b90a033a5d4b7
X-WR-TIMEZONE:America/New_York
BEGIN:VTIMEZONE
TZID:America/New_York
BEGIN:STANDARD
TZNAME:EST
DTSTART:20221106T020000
TZOFFSETFROM:-0400
TZOFFSETTO:-0500
RDATE:20231105T020000
END:STANDARD
BEGIN:DAYLIGHT
TZNAME:EDT
DTSTART:20220313T020000
TZOFFSETFROM:-0500
TZOFFSETTO:-0400
RDATE:20230312T020000
RDATE:20240310T020000
END:DAYLIGHT
END:VTIMEZONE
BEGIN:VEVENT
UID:fb621a0c-cd88-431b-8a0f-4f1e3f77f2a3
DTSTAMP:20260424T185314Z
DESCRIPTION:
DTSTART;TZID=America/New_York:20221116T083000
DTEND;TZID=America/New_York:20221116T093000
LOCATION:
SUMMARY:School Mass\, 8th
END:VEVENT
END:VCALENDAR
