BEGIN:VCALENDAR
VERSION:2.0
PRODID:-//sjcschargers.com//NONSGML kigkonsult.se iCalcreator 2.30.10//
CALSCALE:GREGORIAN
METHOD:PUBLISH
UID:ff3c3684-2eb3-45f1-8492-50261fee71e2
X-WR-CALDESC:
X-WR-RELCALID:6669ce81fa08abdcae18d436aded7652
X-WR-TIMEZONE:America/New_York
BEGIN:VTIMEZONE
TZID:America/New_York
BEGIN:STANDARD
TZNAME:EST
DTSTART:20221106T020000
TZOFFSETFROM:-0400
TZOFFSETTO:-0500
RDATE:20231105T020000
END:STANDARD
BEGIN:DAYLIGHT
TZNAME:EDT
DTSTART:20220313T020000
TZOFFSETFROM:-0500
TZOFFSETTO:-0400
RDATE:20230312T020000
RDATE:20240310T020000
END:DAYLIGHT
END:VTIMEZONE
BEGIN:VEVENT
UID:128d515a-265a-46c4-8241-6d7ab9ad01fc
DTSTAMP:20260424T185936Z
DESCRIPTION:
DTSTART;TZID=America/New_York:20221117T000000
DTEND;TZID=America/New_York:20221117T235900
LOCATION:
SUMMARY:H&S Quarterly Parent Meeting 6pm
END:VEVENT
END:VCALENDAR
