BEGIN:VCALENDAR
VERSION:2.0
PRODID:-//sjcschargers.com//NONSGML kigkonsult.se iCalcreator 2.30.10//
CALSCALE:GREGORIAN
METHOD:PUBLISH
UID:20c716db-2f6f-4039-822b-aa3474406824
X-WR-CALDESC:
X-WR-RELCALID:0a2a03c196b881ab9ccadee2ef2ed242
X-WR-TIMEZONE:America/New_York
BEGIN:VTIMEZONE
TZID:America/New_York
BEGIN:STANDARD
TZNAME:EST
DTSTART:20221106T020000
TZOFFSETFROM:-0400
TZOFFSETTO:-0500
RDATE:20231105T020000
END:STANDARD
BEGIN:DAYLIGHT
TZNAME:EDT
DTSTART:20220313T020000
TZOFFSETFROM:-0500
TZOFFSETTO:-0400
RDATE:20230312T020000
RDATE:20240310T020000
END:DAYLIGHT
END:VTIMEZONE
BEGIN:VEVENT
UID:6f9afd08-bfed-466d-962e-6988587c556e
DTSTAMP:20260424T185219Z
DESCRIPTION:
DTSTART;TZID=America/New_York:20221118T000000
DTEND;TZID=America/New_York:20221118T235900
LOCATION:
SUMMARY:Fall Field Day-all students may wear PE uniforms
END:VEVENT
END:VCALENDAR
