BEGIN:VCALENDAR
VERSION:2.0
PRODID:-//sjcschargers.com//NONSGML kigkonsult.se iCalcreator 2.30.10//
CALSCALE:GREGORIAN
METHOD:PUBLISH
UID:47df0d6f-83c5-4208-8a3d-bdf381a3c7c7
X-WR-CALDESC:
X-WR-RELCALID:acf6e176f7ae4ccbb877e83833cc7d50
X-WR-TIMEZONE:America/New_York
BEGIN:VTIMEZONE
TZID:America/New_York
BEGIN:STANDARD
TZNAME:EST
DTSTART:20221106T020000
TZOFFSETFROM:-0400
TZOFFSETTO:-0500
RDATE:20231105T020000
END:STANDARD
BEGIN:DAYLIGHT
TZNAME:EDT
DTSTART:20220313T020000
TZOFFSETFROM:-0500
TZOFFSETTO:-0400
RDATE:20230312T020000
RDATE:20240310T020000
END:DAYLIGHT
END:VTIMEZONE
BEGIN:VEVENT
UID:0757aeeb-7ae0-414d-b1ea-8168c1509185
DTSTAMP:20260424T185202Z
DESCRIPTION:
DTSTART;TZID=America/New_York:20221129T160000
DTEND;TZID=America/New_York:20221129T170000
LOCATION:
SUMMARY:Boys BB @ Home JV 4:00
END:VEVENT
END:VCALENDAR
