BEGIN:VCALENDAR
VERSION:2.0
PRODID:-//sjcschargers.com//NONSGML kigkonsult.se iCalcreator 2.30.10//
CALSCALE:GREGORIAN
METHOD:PUBLISH
UID:6857944e-9432-4c14-b565-19267bfb00c3
X-WR-CALDESC:
X-WR-RELCALID:7437d26b3ed8cd99050d9bee2752c09c
X-WR-TIMEZONE:America/New_York
BEGIN:VTIMEZONE
TZID:America/New_York
BEGIN:STANDARD
TZNAME:EST
DTSTART:20221106T020000
TZOFFSETFROM:-0400
TZOFFSETTO:-0500
RDATE:20231105T020000
END:STANDARD
BEGIN:DAYLIGHT
TZNAME:EDT
DTSTART:20220313T020000
TZOFFSETFROM:-0500
TZOFFSETTO:-0400
RDATE:20230312T020000
RDATE:20240310T020000
END:DAYLIGHT
END:VTIMEZONE
BEGIN:VEVENT
UID:9bd799be-47c0-470d-8459-f4dd6e475414
DTSTAMP:20260424T184440Z
DESCRIPTION:
DTSTART;TZID=America/New_York:20221130T083000
DTEND;TZID=America/New_York:20221130T093000
LOCATION:
SUMMARY:School Mass 7B
END:VEVENT
END:VCALENDAR
