BEGIN:VCALENDAR
VERSION:2.0
PRODID:-//sjcschargers.com//NONSGML kigkonsult.se iCalcreator 2.30.10//
CALSCALE:GREGORIAN
METHOD:PUBLISH
UID:9e2b93fc-b576-4e68-b0d2-1553180ab491
X-WR-CALDESC:
X-WR-RELCALID:c94b1390a21164fe75e7f4e9c57d99af
X-WR-TIMEZONE:America/New_York
BEGIN:VTIMEZONE
TZID:America/New_York
BEGIN:STANDARD
TZNAME:EST
DTSTART:20221106T020000
TZOFFSETFROM:-0400
TZOFFSETTO:-0500
RDATE:20231105T020000
END:STANDARD
BEGIN:DAYLIGHT
TZNAME:EDT
DTSTART:20220313T020000
TZOFFSETFROM:-0500
TZOFFSETTO:-0400
RDATE:20230312T020000
RDATE:20240310T020000
END:DAYLIGHT
END:VTIMEZONE
BEGIN:VEVENT
UID:6456f0dc-5035-4022-ab10-5016d4ddb1e7
DTSTAMP:20260424T174050Z
DESCRIPTION:
DTSTART;TZID=America/New_York:20221201T160000
DTEND;TZID=America/New_York:20221201T170000
LOCATION:
SUMMARY:Boy BB @ St. As JV 4 V 5
END:VEVENT
END:VCALENDAR
