BEGIN:VCALENDAR
VERSION:2.0
PRODID:-//sjcschargers.com//NONSGML kigkonsult.se iCalcreator 2.30.10//
CALSCALE:GREGORIAN
METHOD:PUBLISH
UID:726f9402-a489-453d-a124-4f0fd1000d48
X-WR-CALDESC:
X-WR-RELCALID:9eb4f6eee1fc28c5ca48a77ebe42f846
X-WR-TIMEZONE:America/New_York
BEGIN:VTIMEZONE
TZID:America/New_York
BEGIN:STANDARD
TZNAME:EST
DTSTART:20221106T020000
TZOFFSETFROM:-0400
TZOFFSETTO:-0500
RDATE:20231105T020000
END:STANDARD
BEGIN:DAYLIGHT
TZNAME:EDT
DTSTART:20220313T020000
TZOFFSETFROM:-0500
TZOFFSETTO:-0400
RDATE:20230312T020000
RDATE:20240310T020000
END:DAYLIGHT
END:VTIMEZONE
BEGIN:VEVENT
UID:e369d154-bbf3-4564-b16a-659f69baa499
DTSTAMP:20260424T173507Z
DESCRIPTION:
DTSTART;TZID=America/New_York:20221202T000000
DTEND;TZID=America/New_York:20221202T235900
LOCATION:
SUMMARY:11:15 Prayer Service (6th)
END:VEVENT
END:VCALENDAR
