BEGIN:VCALENDAR
VERSION:2.0
PRODID:-//sjcschargers.com//NONSGML kigkonsult.se iCalcreator 2.30.10//
CALSCALE:GREGORIAN
METHOD:PUBLISH
UID:89c17979-93ce-470b-bd81-37a751cdd8a9
X-WR-CALDESC:
X-WR-RELCALID:12fd2e3b9ec73d281a7600bfe1722d2b
X-WR-TIMEZONE:America/New_York
BEGIN:VTIMEZONE
TZID:America/New_York
BEGIN:STANDARD
TZNAME:EST
DTSTART:20221106T020000
TZOFFSETFROM:-0400
TZOFFSETTO:-0500
RDATE:20231105T020000
END:STANDARD
BEGIN:DAYLIGHT
TZNAME:EDT
DTSTART:20220313T020000
TZOFFSETFROM:-0500
TZOFFSETTO:-0400
RDATE:20230312T020000
RDATE:20240310T020000
END:DAYLIGHT
END:VTIMEZONE
BEGIN:VEVENT
UID:71d5d0e2-e522-4db2-9391-09594690dbcc
DTSTAMP:20260424T173618Z
DESCRIPTION:
DTSTART;TZID=America/New_York:20221204T000000
DTEND;TZID=America/New_York:20221204T235900
LOCATION:
SUMMARY:Santa's Pancake Breakfast 9-11am\, Jazz Band plays
END:VEVENT
END:VCALENDAR
