BEGIN:VCALENDAR
VERSION:2.0
PRODID:-//sjcschargers.com//NONSGML kigkonsult.se iCalcreator 2.30.10//
CALSCALE:GREGORIAN
METHOD:PUBLISH
UID:d8e1b691-5d36-476c-a2f4-29b89491a729
X-WR-CALDESC:
X-WR-RELCALID:cb256c73e3d44a6383dcdd9e53ad781e
X-WR-TIMEZONE:America/New_York
BEGIN:VTIMEZONE
TZID:America/New_York
BEGIN:STANDARD
TZNAME:EST
DTSTART:20221106T020000
TZOFFSETFROM:-0400
TZOFFSETTO:-0500
RDATE:20231105T020000
END:STANDARD
BEGIN:DAYLIGHT
TZNAME:EDT
DTSTART:20220313T020000
TZOFFSETFROM:-0500
TZOFFSETTO:-0400
RDATE:20230312T020000
RDATE:20240310T020000
END:DAYLIGHT
END:VTIMEZONE
BEGIN:VEVENT
UID:170f10e7-919a-4b84-ada7-99d9d4dd6e04
DTSTAMP:20260424T173500Z
DESCRIPTION:
DTSTART;TZID=America/New_York:20221204T000000
DTEND;TZID=America/New_York:20221204T235900
LOCATION:
SUMMARY:School Mass 9am - 4th
END:VEVENT
END:VCALENDAR
