BEGIN:VCALENDAR
VERSION:2.0
PRODID:-//sjcschargers.com//NONSGML kigkonsult.se iCalcreator 2.30.10//
CALSCALE:GREGORIAN
METHOD:PUBLISH
UID:268da91f-caac-4377-96f7-95e615da52fe
X-WR-CALDESC:
X-WR-RELCALID:68f36c90e82ae0f3255de297f43c1604
X-WR-TIMEZONE:America/New_York
BEGIN:VTIMEZONE
TZID:America/New_York
BEGIN:STANDARD
TZNAME:EST
DTSTART:20221106T020000
TZOFFSETFROM:-0400
TZOFFSETTO:-0500
RDATE:20231105T020000
END:STANDARD
BEGIN:DAYLIGHT
TZNAME:EDT
DTSTART:20220313T020000
TZOFFSETFROM:-0500
TZOFFSETTO:-0400
RDATE:20230312T020000
RDATE:20240310T020000
END:DAYLIGHT
END:VTIMEZONE
BEGIN:VEVENT
UID:5942d8a9-36e9-428e-bb89-e4a31bb040e1
DTSTAMP:20260424T171511Z
DESCRIPTION:
DTSTART;TZID=America/New_York:20221205T000000
DTEND;TZID=America/New_York:20221209T235900
LOCATION:
SUMMARY:Gingerbread Workshop
END:VEVENT
END:VCALENDAR
