BEGIN:VCALENDAR
VERSION:2.0
PRODID:-//sjcschargers.com//NONSGML kigkonsult.se iCalcreator 2.30.10//
CALSCALE:GREGORIAN
METHOD:PUBLISH
UID:a19041bc-9176-4024-bdd0-2fdd43654bb2
X-WR-CALDESC:
X-WR-RELCALID:85de294eadaff57914ecc015fb6e6dab
X-WR-TIMEZONE:America/New_York
BEGIN:VTIMEZONE
TZID:America/New_York
BEGIN:STANDARD
TZNAME:EST
DTSTART:20221106T020000
TZOFFSETFROM:-0400
TZOFFSETTO:-0500
RDATE:20231105T020000
END:STANDARD
BEGIN:DAYLIGHT
TZNAME:EDT
DTSTART:20220313T020000
TZOFFSETFROM:-0500
TZOFFSETTO:-0400
RDATE:20230312T020000
RDATE:20240310T020000
END:DAYLIGHT
END:VTIMEZONE
BEGIN:VEVENT
UID:0c8ae5a3-c278-4364-b0ef-d5564b26ef71
DTSTAMP:20260424T173920Z
DESCRIPTION:
DTSTART;TZID=America/New_York:20221206T161500
DTEND;TZID=America/New_York:20221206T171500
LOCATION:
SUMMARY:Girls BB @ St. Helen JV 4:15 V 5:15 (Fenn Center Ft. Pierce)
END:VEVENT
END:VCALENDAR
