BEGIN:VCALENDAR
VERSION:2.0
PRODID:-//sjcschargers.com//NONSGML kigkonsult.se iCalcreator 2.30.10//
CALSCALE:GREGORIAN
METHOD:PUBLISH
UID:ae05c172-60ed-4d25-a326-438f445659df
X-WR-CALDESC:
X-WR-RELCALID:f0738ec54be89d2b3fd64af1d4b2257e
X-WR-TIMEZONE:America/New_York
BEGIN:VTIMEZONE
TZID:America/New_York
BEGIN:STANDARD
TZNAME:EST
DTSTART:20221106T020000
TZOFFSETFROM:-0400
TZOFFSETTO:-0500
RDATE:20231105T020000
END:STANDARD
BEGIN:DAYLIGHT
TZNAME:EDT
DTSTART:20220313T020000
TZOFFSETFROM:-0500
TZOFFSETTO:-0400
RDATE:20230312T020000
RDATE:20240310T020000
END:DAYLIGHT
END:VTIMEZONE
BEGIN:VEVENT
UID:c91c89ab-e2d4-40ab-90bb-6220b6a5951c
DTSTAMP:20260424T172419Z
DESCRIPTION:
DTSTART;TZID=America/New_York:20221207T000000
DTEND;TZID=America/New_York:20221207T235900
LOCATION:
SUMMARY:Christmas Program K-4th 6pm
END:VEVENT
END:VCALENDAR
